{"text_format":"1","workbook":"xlsx","n_sheets":3,"sheets":["CRForm","UPLOAD","ARUTFI_Headers"],"not_rendered":{"charts":0,"images":0,"macros":1,"external_links":1,"defined_names":16,"comments":0,"pivot_tables":0},"unopened":[],"bounds":{"document_bytes":16777216,"sheet_cells":100000,"rows_first":2000,"rows_last":500,"rows_between":2000,"halvings":0,"cell_chars":16384,"cell_head_chars":4096},"cells_cut":0,"cells_raw":0,"read":"whole","date_system":"1900"}

{"sheet":"CRForm","index":0,"n_rows":67,"n_cols":28,"rows_kept":67,"cut":false,"hidden":false,"merged":[[2,27,3,27],[2,32,3,32],[53,22,53,25],[46,4,46,5],[59,4,59,5],[59,6,59,8],[59,9,59,10],[59,11,59,21],[59,22,59,25],[57,4,57,5],[57,6,57,8],[57,9,57,10],[57,11,57,21],[57,22,57,25],[47,22,47,25],[46,22,46,25],[48,22,48,25],[46,9,46,10],[49,22,49,25],[50,22,50,25],[49,9,49,10],[54,4,54,5],[54,9,54,10],[54,22,54,25],[54,6,54,8],[44,9,44,10],[44,11,44,21],[44,22,44,25],[45,4,45,5],[45,6,45,8],[45,9,45,10],[45,11,45,21],[45,22,45,25],[51,4,51,5],[52,4,52,5],[53,4,53,5],[48,4,48,5],[49,4,49,5],[44,4,44,5],[50,6,50,8],[51,6,51,8],[52,6,52,8],[53,6,53,8],[47,6,47,8],[58,22,58,25],[55,6,55,8],[55,9,55,10],[55,11,55,21],[55,22,55,25],[56,1,56,3],[56,4,56,5],[56,6,56,8],[56,9,56,10],[56,11,56,21],[56,22,56,25],[42,4,42,5],[42,6,42,8],[42,9,42,10],[42,11,42,21],[42,22,42,25],[43,4,43,5],[43,6,43,8],[43,9,43,10],[43,11,43,21],[43,22,43,25],[40,4,40,5],[40,6,40,8],[40,9,40,10],[40,11,40,21],[40,22,40,25],[38,4,38,5],[41,9,41,10],[41,11,41,21],[41,22,41,25],[41,4,41,5],[35,4,35,5],[38,9,38,10],[38,11,38,21],[38,22,38,25],[39,4,39,5],[39,6,39,8],[39,9,39,10],[39,11,39,21],[39,22,39,25],[0,0,0,8],[12,9,12,15],[68,1,68,8],[70,1,70,8],[69,1,69,8],[67,0,67,15],[64,1,64,3],[64,4,64,5],[64,6,64,8],[64,9,64,10],[64,11,64,21],[65,1,65,3],[65,4,65,5],[65,6,65,8],[65,9,65,10],[65,11,65,21],[62,6,62,8],[63,6,63,8],[61,6,61,8],[62,1,62,3],[63,1,63,3],[50,1,50,3],[51,1,51,3],[52,1,52,3],[12,22,12,25],[27,22,27,25],[20,22,20,25],[21,22,21,25],[19,9,19,10],[20,9,20,10],[21,9,21,10],[48,9,48,10],[52,22,52,25],[14,15,14,21],[14,11,14,14],[47,11,47,14],[47,15,47,21],[12,17,12,21],[27,9,27,10],[27,11,27,14],[27,15,27,21],[22,9,22,10],[23,9,23,10],[24,9,24,10],[25,9,25,10],[17,9,17,10],[18,9,18,10],[14,9,14,10],[22,22,22,25],[23,22,23,25],[24,22,24,25],[25,22,25,25],[17,22,17,25],[18,22,18,25],[19,22,19,25],[17,6,17,8],[31,6,31,8],[31,9,31,10],[31,11,31,21],[30,6,30,8],[30,9,30,10],[30,11,30,21],[30,22,30,25],[28,6,28,8],[27,6,27,8],[20,6,20,8],[21,6,21,8],[22,6,22,8],[23,6,23,8],[24,6,24,8],[25,11,25,21],[32,6,32,8],[32,9,32,10],[35,22,35,25],[36,6,36,8],[36,9,36,10],[36,11,36,21],[36,22,36,25],[37,6,37,8],[37,9,37,10],[35,11,35,21],[37,22,37,25],[14,22,14,25],[15,22,15,25],[16,22,16,25],[14,6,14,8],[15,6,15,8],[16,6,16,8],[28,4,28,5],[29,4,29,5],[15,9,15,10],[18,6,18,8],[19,6,19,8],[16,9,16,10],[26,4,26,5],[28,22,28,25],[29,22,29,25],[28,9,28,10],[29,9,29,10],[29,11,29,21],[23,4,23,5],[24,4,24,5],[25,6,25,8],[26,6,26,8],[29,6,29,8],[24,11,24,21],[5,3,5,23],[11,22,11,25],[8,22,8,25],[7,22,7,25],[7,17,7,21],[8,17,8,21],[11,17,11,21],[9,17,10,21],[9,22,10,25],[7,0,7,4],[8,3,8,7],[8,9,8,15],[9,9,10,15],[11,0,11,7],[31,4,31,5],[50,4,50,5],[46,11,46,21],[48,11,48,21],[31,22,31,25],[32,11,32,21],[46,6,46,8],[48,6,48,8],[44,6,44,8],[33,4,33,5],[33,6,33,8],[33,9,33,10],[33,11,33,21],[33,22,33,25],[34,4,34,5],[34,6,34,8],[34,9,34,10],[34,11,34,21],[34,22,34,25],[49,6,49,8],[35,6,35,8],[38,6,38,8],[41,6,41,8],[35,9,35,10],[66,1,66,3],[55,1,55,3],[55,4,55,5],[66,22,66,25],[66,11,66,21],[60,4,60,5],[61,4,61,5],[62,4,62,5],[63,4,63,5],[60,22,60,25],[61,22,61,25],[62,22,62,25],[63,22,63,25],[61,1,61,3],[64,22,64,25],[65,22,65,25],[66,4,66,5],[66,6,66,8],[66,9,66,10],[60,6,60,8],[58,1,58,3],[58,4,58,5],[58,6,58,8],[58,9,58,10],[39,1,39,3],[41,1,41,3],[43,1,43,3],[45,1,45,3],[27,1,27,3],[30,1,30,3],[32,1,32,3],[34,1,34,3],[36,1,36,3],[38,1,38,3],[40,1,40,3],[42,1,42,3],[44,1,44,3],[46,1,46,3],[48,1,48,3],[47,1,47,3],[49,1,49,3],[60,1,60,3],[57,1,57,3],[59,1,59,3],[53,1,53,3],[54,1,54,3],[25,1,25,3],[26,1,26,3],[28,1,28,3],[29,1,29,3],[31,1,31,3],[33,1,33,3],[35,1,35,3],[37,1,37,3],[14,4,14,5],[15,4,15,5],[16,4,16,5],[17,4,17,5],[18,4,18,5],[19,4,19,5],[20,4,20,5],[21,4,21,5],[22,4,22,5],[30,4,30,5],[32,4,32,5],[36,4,36,5],[37,4,37,5],[25,4,25,5],[14,1,14,3],[15,1,15,3],[12,0,12,7],[17,1,17,3],[18,1,18,3],[19,1,19,3],[20,1,20,3],[21,1,21,3],[22,1,22,3],[23,1,23,3],[24,1,24,3],[16,1,16,3],[62,9,62,10],[63,9,63,10],[50,9,50,10],[11,9,11,15],[23,11,23,21],[37,11,37,21],[58,11,58,21],[15,11,15,21],[16,11,16,21],[17,11,17,21],[18,11,18,21],[19,11,19,21],[20,11,20,21],[21,11,21,21],[22,11,22,21],[13,17,13,21],[62,11,62,21],[63,11,63,21],[1,22,1,25],[13,22,13,25],[47,9,47,10],[26,22,26,25],[26,9,26,10],[54,11,54,21],[60,11,60,21],[61,11,61,21],[49,11,49,21],[50,11,50,21],[51,11,51,21],[52,11,52,21],[53,11,53,21],[26,11,26,21],[28,11,28,21],[51,9,51,10],[52,9,52,10],[53,9,53,10],[51,22,51,25],[32,22,32,25],[2,22,2,25],[60,9,60,10],[61,9,61,10],[4,19,4,25]]}
[]
["COUNTY OF SANTA CRUZ",null,null,null,null,null,null,null,null,null,null,null,null,null,null,null,null,null,null,null,null,"Set (Batch) ID",null,null,null,null,null,{"$f":"SUBTOTAL(109,W16:Z27)","v":0}]
["AFFIDAVIT AND RECORD OF DEPOSIT",null,null,null,null,null,null,null,null,null,null,null,null,null,null,null,null,null,null,null,null,"ACTTC Deposit No.",null,null,null,null,null,{"$f":"SUBTOTAL(109,W29:Z47)","v":0}]
[]
["I hereby swear, under penalty of perjury, that the amount due the treasury of said county for moneys collected by:",null,null,null,null,null,null,null,null,null,null,null,null,null,null,null,null,null,null,null,null,null,null,null,null,null,null,{"$f":"SUBTOTAL(109,W49:Z67)","v":0}]
["is the sum of ",null,null,null,null,null,null,null,null,null,null,null,null,null,null,null,null,null,null,null,null,null,null,null,null,"dollars"]
[]
[{"$f":"IF(COUNT(W8:Z11)=0,\"($                                             )\",W12)","v":"($                                             )"},null,null,null,null,"in settlement of the following accounts to and including the data below:",null,null,null,null,null,null,null,null,null,null,null,"Total Wire Deposit"]
["Subscribed this",null,null,{"$f":"TODAY()","v":"2019-09-25"},null,null,null,null,null,null,null,null,null,null,null,null,null,"Total Cash"]
[null,null,null,null,null,null,null,null,null,"PREPARED BY, EXT",null,null,null,null,null,null,null,"Total Checks"]
[]
[null,null,null,null,null,null,null,null,null,null,null,null,null,null,null,null,null,"Total Deposit",null,null,null,null,{"$f":"SUM(W8:Z11)","v":0}]
["HEAD OF DEPARTMENT - NAME & TITLE",null,null,null,null,null,null,null,null,"by:  DEPARTMENTAL APPROVAL",null,null,null,null,null,null,null,{"$f":"IF(W14<>0,IF(W12=W14,\"\",\"TOTALS DO NOT MATCH\"),\"\")","v":""},null,null,null,null,{"$f":"ROUND((IF(W14=\"\",\"\",W14-W12)),2)","v":0}]
[null,null,null,null,null,null,null,null,null,null,null,null,null,null,null,null,null,"Sum of Lines Below",null,null,null,null,{"$f":"SUBTOTAL(109,W16:Z67)","v":0}]
["Line","GL Key",null,null,"GL Obj",null,"JL Key",null,null,"JL Obj",null,"Description",null,null,null,{"$f":"IF(MAX($AA$16:$AA$27)>30,\"Descriptions limited to 30 Characters\",\"\")","v":""},null,null,null,null,null,null,"Amount",null,null,null,"Description\nLength"]
[1,null,null,null,null,null,null,null,null,null,null,null,null,null,null,null,null,null,null,null,null,null,null,null,null,null,{"$f":"LEN(L16)","v":0},{"$f":"IF(AND(W16<>0,AND(B16=\"\",E16<>\"\",L16<>\"\")),\"ENTER GL KEY\",\"\")&IF(AND(W16<>0,AND(B16<>\"\",E16=\"\",L16<>\"\")),\"ENTER GL OBJECT\",\"\")&IF(AND(W16<>0,AND(B16<>\"\",E16<>\"\",L16=\"\")),\"ENTER DESCRIPTION\",\"\")&IF(AND(W16<>0,AND(B16=\"\",E16<>\"\",L16=\"\")),\"ENTER GL KEY & DESCRIPTION\",\"\")&IF(AND(W16<>0,AND(B16<>\"\",E16=\"\",L16=\"\")),\"ENTER GL OBJECT & DESCRIPTION\",\"\")&IF(AND(W16<>0,AND(B16=\"\",E16=\"\",L16=\"\")),\"ENTER GL KEY, GL OBJECT, & DESCRIPTION\",\"\")&IF(AND(W16<>0,AND(B16=\"\",E16=\"\",L16<>\"\")),\"ENTER GL KEY & GL OBJECT\",\"\")","v":""}]
[2,null,null,null,null,null,null,null,null,null,null,null,null,null,null,null,null,null,null,null,null,null,null,null,null,null,{"$f":"LEN(L17)","v":0},""]
[3,null,null,null,null,null,null,null,null,null,null,null,null,null,null,null,null,null,null,null,null,null,null,null,null,null,0,""]
[4,null,null,null,null,null,null,null,null,null,null,null,null,null,null,null,null,null,null,null,null,null,null,null,null,null,0,""]
[5,null,null,null,null,null,null,null,null,null,null,null,null,null,null,null,null,null,null,null,null,null,null,null,null,null,0,""]
[6,null,null,null,null,null,null,null,null,null,null,null,null,null,null,null,null,null,null,null,null,null,null,null,null,null,0,""]
[7,null,null,null,null,null,null,null,null,null,null,null,null,null,null,null,null,null,null,null,null,null,null,null,null,null,0,""]
[8,null,null,null,null,null,null,null,null,null,null,null,null,null,null,null,null,null,null,null,null,null,null,null,null,null,0,""]
[9,null,null,null,null,null,null,null,null,null,null,null,null,null,null,null,null,null,null,null,null,null,null,null,null,null,0,""]
[10,null,null,null,null,null,null,null,null,null,null,null,null,null,null,null,null,null,null,null,null,null,null,null,null,null,0,""]
[11,null,null,null,null,null,null,null,null,null,null,null,null,null,null,null,null,null,null,null,null,null,null,null,null,null,0,""]
[12,null,null,null,null,null,null,null,null,null,null,null,null,null,null,null,null,null,null,null,null,null,null,null,null,null,0,""]
["Line","GL Key",null,null,"GL Obj",null,"JL Key",null,null,"JL Obj",null,"Description",null,null,null,{"$f":"IF(MAX($AA$29:$AA$47)>30,\"Descriptions limited to 30 Characters\",\"\")","v":""},null,null,null,null,null,null,"Amount"]
[13,null,null,null,null,null,null,null,null,null,null,null,null,null,null,null,null,null,null,null,null,null,null,null,null,null,0,{"$f":"IF(AND(W29<>0,AND(B29=\"\",E29<>\"\",L29<>\"\")),\"ENTER GL KEY\",\"\")&IF(AND(W29<>0,AND(B29<>\"\",E29=\"\",L29<>\"\")),\"ENTER GL OBJECT\",\"\")&IF(AND(W29<>0,AND(B29<>\"\",E29<>\"\",L29=\"\")),\"ENTER DESCRIPTION\",\"\")&IF(AND(W29<>0,AND(B29=\"\",E29<>\"\",L29=\"\")),\"ENTER GL KEY & DESCRIPTION\",\"\")&IF(AND(W29<>0,AND(B29<>\"\",E29=\"\",L29=\"\")),\"ENTER GL OBJECT & DESCRIPTION\",\"\")&IF(AND(W29<>0,AND(B29=\"\",E29=\"\",L29=\"\")),\"ENTER GL KEY, GL OBJECT, & DESCRIPTION\",\"\")&IF(AND(W29<>0,AND(B29=\"\",E29=\"\",L29<>\"\")),\"ENTER GL KEY & GL OBJECT\",\"\")","v":""}]
[14,null,null,null,null,null,null,null,null,null,null,null,null,null,null,null,null,null,null,null,null,null,null,null,null,null,0,""]
[15,null,null,null,null,null,null,null,null,null,null,null,null,null,null,null,null,null,null,null,null,null,null,null,null,null,{"$f":"LEN(L31)","v":0},""]
[16,null,null,null,null,null,null,null,null,null,null,null,null,null,null,null,null,null,null,null,null,null,null,null,null,null,0,""]
[17,null,null,null,null,null,null,null,null,null,null,null,null,null,null,null,null,null,null,null,null,null,null,null,null,null,0,""]
[18,null,null,null,null,null,null,null,null,null,null,null,null,null,null,null,null,null,null,null,null,null,null,null,null,null,0,""]
[19,null,null,null,null,null,null,null,null,null,null,null,null,null,null,null,null,null,null,null,null,null,null,null,null,null,0,""]
[20,null,null,null,null,null,null,null,null,null,null,null,null,null,null,null,null,null,null,null,null,null,null,null,null,null,0,""]
[21,null,null,null,null,null,null,null,null,null,null,null,null,null,null,null,null,null,null,null,null,null,null,null,null,null,0,""]
[22,null,null,null,null,null,null,null,null,null,null,null,null,null,null,null,null,null,null,null,null,null,null,null,null,null,0,""]
[23,null,null,null,null,null,null,null,null,null,null,null,null,null,null,null,null,null,null,null,null,null,null,null,null,null,0,""]
[24,null,null,null,null,null,null,null,null,null,null,null,null,null,null,null,null,null,null,null,null,null,null,null,null,null,0,""]
[25,null,null,null,null,null,null,null,null,null,null,null,null,null,null,null,null,null,null,null,null,null,null,null,null,null,0,""]
[26,null,null,null,null,null,null,null,null,null,null,null,null,null,null,null,null,null,null,null,null,null,null,null,null,null,0,""]
[27,null,null,null,null,null,null,null,null,null,null,null,null,null,null,null,null,null,null,null,null,null,null,null,null,null,0,""]
[28,null,null,null,null,null,null,null,null,null,null,null,null,null,null,null,null,null,null,null,null,null,null,null,null,null,0,""]
[29,null,null,null,null,null,null,null,null,null,null,null,null,null,null,null,null,null,null,null,null,null,null,null,null,null,0,""]
[30,null,null,null,null,null,null,null,null,null,null,null,null,null,null,null,null,null,null,null,null,null,null,null,null,null,{"$f":"LEN(L46)","v":0},""]
[31,null,null,null,null,null,null,null,null,null,null,null,null,null,null,null,null,null,null,null,null,null,null,null,null,null,0,""]
["Line","GL Key",null,null,"GL Obj",null,"JL Key",null,null,"JL Obj",null,"Description",null,null,null,{"$f":"IF(MAX($AA$49:$AA$67)>30,\"Descriptions limited to 30 Characters\",\"\")","v":""},null,null,null,null,null,null,"Amount"]
[32,null,null,null,null,null,null,null,null,null,null,null,null,null,null,null,null,null,null,null,null,null,null,null,null,null,0,{"$f":"IF(AND(W49<>0,AND(B49=\"\",E49<>\"\",L49<>\"\")),\"ENTER GL KEY\",\"\")&IF(AND(W49<>0,AND(B49<>\"\",E49=\"\",L49<>\"\")),\"ENTER GL OBJECT\",\"\")&IF(AND(W49<>0,AND(B49<>\"\",E49<>\"\",L49=\"\")),\"ENTER DESCRIPTION\",\"\")&IF(AND(W49<>0,AND(B49=\"\",E49<>\"\",L49=\"\")),\"ENTER GL KEY & DESCRIPTION\",\"\")&IF(AND(W49<>0,AND(B49<>\"\",E49=\"\",L49=\"\")),\"ENTER GL OBJECT & DESCRIPTION\",\"\")&IF(AND(W49<>0,AND(B49=\"\",E49=\"\",L49=\"\")),\"ENTER GL KEY, GL OBJECT, & DESCRIPTION\",\"\")&IF(AND(W49<>0,AND(B49=\"\",E49=\"\",L49<>\"\")),\"ENTER GL KEY & GL OBJECT\",\"\")","v":""}]
[33,null,null,null,null,null,null,null,null,null,null,null,null,null,null,null,null,null,null,null,null,null,null,null,null,null,0,""]
[34,null,null,null,null,null,null,null,null,null,null,null,null,null,null,null,null,null,null,null,null,null,null,null,null,null,0,""]
[35,null,null,null,null,null,null,null,null,null,null,null,null,null,null,null,null,null,null,null,null,null,null,null,null,null,0,""]
[36,null,null,null,null,null,null,null,null,null,null,null,null,null,null,null,null,null,null,null,null,null,null,null,null,null,0,""]
[37,null,null,null,null,null,null,null,null,null,null,null,null,null,null,null,null,null,null,null,null,null,null,null,null,null,0,""]
[38,null,null,null,null,null,null,null,null,null,null,null,null,null,null,null,null,null,null,null,null,null,null,null,null,null,0,""]
[39,null,null,null,null,null,null,null,null,null,null,null,null,null,null,null,null,null,null,null,null,null,null,null,null,null,{"$f":"LEN(L56)","v":0},""]
[40,null,null,null,null,null,null,null,null,null,null,null,null,null,null,null,null,null,null,null,null,null,null,null,null,null,0,""]
[41,null,null,null,null,null,null,null,null,null,null,null,null,null,null,null,null,null,null,null,null,null,null,null,null,null,0,""]
[42,null,null,null,null,null,null,null,null,null,null,null,null,null,null,null,null,null,null,null,null,null,null,null,null,null,0,""]
[43,null,null,null,null,null,null,null,null,null,null,null,null,null,null,null,null,null,null,null,null,null,null,null,null,null,0,""]
[44,null,null,null,null,null,null,null,null,null,null,null,null,null,null,null,null,null,null,null,null,null,null,null,null,null,0,""]
[45,null,null,null,null,null,null,null,null,null,null,null,null,null,null,null,null,null,null,null,null,null,null,null,null,null,0,""]
[46,null,null,null,null,null,null,null,null,null,null,null,null,null,null,null,null,null,null,null,null,null,null,null,null,null,0,""]
[47,null,null,null,null,null,null,null,null,null,null,null,null,null,null,null,null,null,null,null,null,null,null,null,null,null,0,""]
[48,null,null,null,null,null,null,null,null,null,null,null,null,null,null,null,null,null,null,null,null,null,null,null,null,null,0,""]
[49,null,null,null,null,null,null,null,null,null,null,null,null,null,null,null,null,null,null,null,null,null,null,null,null,null,0,""]
[50,null,null,null,null,null,null,null,null,null,null,null,null,null,null,null,null,null,null,null,null,null,null,null,null,null,0,""]

{"sheet":"UPLOAD","index":1,"n_rows":50,"n_cols":29,"rows_kept":50,"cut":false,"hidden":false,"merged":[]}
[{"$f":"IF(CRForm!$W16<>0,\"CR\",\"\")","v":""},{"$f":"IF(A1=\"CR\",\"C99999\",\"\")","v":""},null,{"$f":"IF(A1=\"CR\",\"GL\",\"\")","v":""},{"$f":"TEXT(IF(A1=\"CR\",CRForm!$B16,\"\"),\"000000\")","v":""},{"$f":"TEXT(IF($A1=\"CR\",CRForm!$E16,\"\"),\"00000\")","v":""},{"$f":"IF(H1<>\"\",\"JL\",\"\")","v":""},{"$f":"IF(CRForm!$G16=\"\",\"\",IF(CRForm!$W16<>0,CRForm!$G16,\"\"))","v":""},{"$f":"IF(CRForm!$J16=\"\",\"\",IF(CRForm!$W16<>0,CRForm!$J16,\"\"))","v":""},null,{"$f":"IF(A1=\"\",\"\",\"T\")","v":""},{"$f":"IF(A1=\"\",\"\",\"GEN\")","v":""},null,{"$f":"IF(A1=\"CR\",CRForm!$W$2,\"\")","v":""},{"$f":"UPPER(IF(CRForm!$L16=\"\",\"\",IF(CRForm!$W16<>0,CRForm!$L16,\"\")))","v":""},{"$f":"IF(A1=\"\",\"\",CRForm!$D$9)","v":""},null,null,{"$f":"IF(A1=\"\",\"\",1)","v":""},{"$f":"IF(CRForm!$W16=\"\",\"\",IF(CRForm!$W16<>0,CRForm!$W16,\"\"))","v":""},null,null,{"$f":"IF(A1=\"\",\"\",\"99\")","v":""},null,null,{"$f":"IF(A1=\"\",\"\",\"C1\")","v":""},null,{"$f":"IF($A1=\"CR\",\"NB\",\"\")","v":""},{"$f":"IF($A1=\"CR\",\"N\",\"\")","v":""}]
[{"$f":"IF(CRForm!$W17<>0,\"CR\",\"\")","v":""},{"$f":"IF(A2=\"CR\",\"C99999\",\"\")","v":""},null,{"$f":"IF(A2=\"CR\",\"GL\",\"\")","v":""},{"$f":"TEXT(IF(A2=\"CR\",CRForm!$B17,\"\"),\"000000\")","v":""},{"$f":"TEXT(IF($A2=\"CR\",CRForm!$E17,\"\"),\"00000\")","v":""},{"$f":"IF(H2<>\"\",\"JL\",\"\")","v":""},{"$f":"IF(CRForm!$G17=\"\",\"\",IF(CRForm!$W17<>0,CRForm!$G17,\"\"))","v":""},{"$f":"IF(CRForm!$J17=\"\",\"\",IF(CRForm!$W17<>0,CRForm!$J17,\"\"))","v":""},null,{"$f":"IF(A2=\"\",\"\",\"T\")","v":""},{"$f":"IF(A2=\"\",\"\",\"GEN\")","v":""},null,{"$f":"IF(A2=\"CR\",CRForm!$W$2,\"\")","v":""},{"$f":"UPPER(IF(CRForm!$L17=\"\",\"\",IF(CRForm!$W17<>0,CRForm!$L17,\"\")))","v":""},{"$f":"IF(A2=\"\",\"\",CRForm!$D$9)","v":""},null,null,{"$f":"IF(A2=\"\",\"\",1)","v":""},{"$f":"IF(CRForm!$W17=\"\",\"\",IF(CRForm!$W17<>0,CRForm!$W17,\"\"))","v":""},null,null,{"$f":"IF(A2=\"\",\"\",\"99\")","v":""},null,null,{"$f":"IF(A2=\"\",\"\",\"C1\")","v":""},null,"",""]
[{"$f":"IF(CRForm!$W18<>0,\"CR\",\"\")","v":""},"",null,"",{"$f":"TEXT(IF(A3=\"CR\",CRForm!$B18,\"\"),\"000000\")","v":""},{"$f":"TEXT(IF($A3=\"CR\",CRForm!$E18,\"\"),\"00000\")","v":""},"",{"$f":"IF(CRForm!$G18=\"\",\"\",IF(CRForm!$W18<>0,CRForm!$G18,\"\"))","v":""},{"$f":"IF(CRForm!$J18=\"\",\"\",IF(CRForm!$W18<>0,CRForm!$J18,\"\"))","v":""},null,"","",null,{"$f":"IF(A3=\"CR\",CRForm!$W$2,\"\")","v":""},{"$f":"UPPER(IF(CRForm!$L18=\"\",\"\",IF(CRForm!$W18<>0,CRForm!$L18,\"\")))","v":""},{"$f":"IF(A3=\"\",\"\",CRForm!$D$9)","v":""},null,null,"",{"$f":"IF(CRForm!$W18=\"\",\"\",IF(CRForm!$W18<>0,CRForm!$W18,\"\"))","v":""},null,null,"",null,null,"",null,"",""]
[{"$f":"IF(CRForm!$W19<>0,\"CR\",\"\")","v":""},"",null,"",{"$f":"TEXT(IF(A4=\"CR\",CRForm!$B19,\"\"),\"000000\")","v":""},{"$f":"TEXT(IF($A4=\"CR\",CRForm!$E19,\"\"),\"00000\")","v":""},"",{"$f":"IF(CRForm!$G19=\"\",\"\",IF(CRForm!$W19<>0,CRForm!$G19,\"\"))","v":""},{"$f":"IF(CRForm!$J19=\"\",\"\",IF(CRForm!$W19<>0,CRForm!$J19,\"\"))","v":""},null,"","",null,{"$f":"IF(A4=\"CR\",CRForm!$W$2,\"\")","v":""},{"$f":"UPPER(IF(CRForm!$L19=\"\",\"\",IF(CRForm!$W19<>0,CRForm!$L19,\"\")))","v":""},{"$f":"IF(A4=\"\",\"\",CRForm!$D$9)","v":""},null,null,"",{"$f":"IF(CRForm!$W19=\"\",\"\",IF(CRForm!$W19<>0,CRForm!$W19,\"\"))","v":""},null,null,"",null,null,"",null,"",""]
[{"$f":"IF(CRForm!$W20<>0,\"CR\",\"\")","v":""},"",null,"",{"$f":"TEXT(IF(A5=\"CR\",CRForm!$B20,\"\"),\"000000\")","v":""},{"$f":"TEXT(IF($A5=\"CR\",CRForm!$E20,\"\"),\"00000\")","v":""},"",{"$f":"IF(CRForm!$G20=\"\",\"\",IF(CRForm!$W20<>0,CRForm!$G20,\"\"))","v":""},{"$f":"IF(CRForm!$J20=\"\",\"\",IF(CRForm!$W20<>0,CRForm!$J20,\"\"))","v":""},null,"","",null,{"$f":"IF(A5=\"CR\",CRForm!$W$2,\"\")","v":""},{"$f":"UPPER(IF(CRForm!$L20=\"\",\"\",IF(CRForm!$W20<>0,CRForm!$L20,\"\")))","v":""},{"$f":"IF(A5=\"\",\"\",CRForm!$D$9)","v":""},null,null,"",{"$f":"IF(CRForm!$W20=\"\",\"\",IF(CRForm!$W20<>0,CRForm!$W20,\"\"))","v":""},null,null,"",null,null,"",null,"",""]
[{"$f":"IF(CRForm!$W21<>0,\"CR\",\"\")","v":""},"",null,"",{"$f":"TEXT(IF(A6=\"CR\",CRForm!$B21,\"\"),\"000000\")","v":""},{"$f":"TEXT(IF($A6=\"CR\",CRForm!$E21,\"\"),\"00000\")","v":""},"",{"$f":"IF(CRForm!$G21=\"\",\"\",IF(CRForm!$W21<>0,CRForm!$G21,\"\"))","v":""},{"$f":"IF(CRForm!$J21=\"\",\"\",IF(CRForm!$W21<>0,CRForm!$J21,\"\"))","v":""},null,"","",null,{"$f":"IF(A6=\"CR\",CRForm!$W$2,\"\")","v":""},{"$f":"UPPER(IF(CRForm!$L21=\"\",\"\",IF(CRForm!$W21<>0,CRForm!$L21,\"\")))","v":""},{"$f":"IF(A6=\"\",\"\",CRForm!$D$9)","v":""},null,null,"",{"$f":"IF(CRForm!$W21=\"\",\"\",IF(CRForm!$W21<>0,CRForm!$W21,\"\"))","v":""},null,null,"",null,null,"",null,"",""]
[{"$f":"IF(CRForm!$W22<>0,\"CR\",\"\")","v":""},"",null,"",{"$f":"TEXT(IF(A7=\"CR\",CRForm!$B22,\"\"),\"000000\")","v":""},{"$f":"TEXT(IF($A7=\"CR\",CRForm!$E22,\"\"),\"00000\")","v":""},"",{"$f":"IF(CRForm!$G22=\"\",\"\",IF(CRForm!$W22<>0,CRForm!$G22,\"\"))","v":""},{"$f":"IF(CRForm!$J22=\"\",\"\",IF(CRForm!$W22<>0,CRForm!$J22,\"\"))","v":""},null,"","",null,{"$f":"IF(A7=\"CR\",CRForm!$W$2,\"\")","v":""},{"$f":"UPPER(IF(CRForm!$L22=\"\",\"\",IF(CRForm!$W22<>0,CRForm!$L22,\"\")))","v":""},{"$f":"IF(A7=\"\",\"\",CRForm!$D$9)","v":""},null,null,"",{"$f":"IF(CRForm!$W22=\"\",\"\",IF(CRForm!$W22<>0,CRForm!$W22,\"\"))","v":""},null,null,"",null,null,"",null,"",""]
[{"$f":"IF(CRForm!$W23<>0,\"CR\",\"\")","v":""},"",null,"",{"$f":"TEXT(IF(A8=\"CR\",CRForm!$B23,\"\"),\"000000\")","v":""},{"$f":"TEXT(IF($A8=\"CR\",CRForm!$E23,\"\"),\"00000\")","v":""},"",{"$f":"IF(CRForm!$G23=\"\",\"\",IF(CRForm!$W23<>0,CRForm!$G23,\"\"))","v":""},{"$f":"IF(CRForm!$J23=\"\",\"\",IF(CRForm!$W23<>0,CRForm!$J23,\"\"))","v":""},null,"","",null,{"$f":"IF(A8=\"CR\",CRForm!$W$2,\"\")","v":""},{"$f":"UPPER(IF(CRForm!$L23=\"\",\"\",IF(CRForm!$W23<>0,CRForm!$L23,\"\")))","v":""},{"$f":"IF(A8=\"\",\"\",CRForm!$D$9)","v":""},null,null,"",{"$f":"IF(CRForm!$W23=\"\",\"\",IF(CRForm!$W23<>0,CRForm!$W23,\"\"))","v":""},null,null,"",null,null,"",null,"",""]
[{"$f":"IF(CRForm!$W24<>0,\"CR\",\"\")","v":""},"",null,"",{"$f":"TEXT(IF(A9=\"CR\",CRForm!$B24,\"\"),\"000000\")","v":""},{"$f":"TEXT(IF($A9=\"CR\",CRForm!$E24,\"\"),\"00000\")","v":""},"",{"$f":"IF(CRForm!$G24=\"\",\"\",IF(CRForm!$W24<>0,CRForm!$G24,\"\"))","v":""},{"$f":"IF(CRForm!$J24=\"\",\"\",IF(CRForm!$W24<>0,CRForm!$J24,\"\"))","v":""},null,"","",null,{"$f":"IF(A9=\"CR\",CRForm!$W$2,\"\")","v":""},{"$f":"UPPER(IF(CRForm!$L24=\"\",\"\",IF(CRForm!$W24<>0,CRForm!$L24,\"\")))","v":""},{"$f":"IF(A9=\"\",\"\",CRForm!$D$9)","v":""},null,null,"",{"$f":"IF(CRForm!$W24=\"\",\"\",IF(CRForm!$W24<>0,CRForm!$W24,\"\"))","v":""},null,null,"",null,null,"",null,"",""]
[{"$f":"IF(CRForm!$W25<>0,\"CR\",\"\")","v":""},"",null,"",{"$f":"TEXT(IF(A10=\"CR\",CRForm!$B25,\"\"),\"000000\")","v":""},{"$f":"TEXT(IF($A10=\"CR\",CRForm!$E25,\"\"),\"00000\")","v":""},"",{"$f":"IF(CRForm!$G25=\"\",\"\",IF(CRForm!$W25<>0,CRForm!$G25,\"\"))","v":""},{"$f":"IF(CRForm!$J25=\"\",\"\",IF(CRForm!$W25<>0,CRForm!$J25,\"\"))","v":""},null,"","",null,{"$f":"IF(A10=\"CR\",CRForm!$W$2,\"\")","v":""},{"$f":"UPPER(IF(CRForm!$L25=\"\",\"\",IF(CRForm!$W25<>0,CRForm!$L25,\"\")))","v":""},{"$f":"IF(A10=\"\",\"\",CRForm!$D$9)","v":""},null,null,"",{"$f":"IF(CRForm!$W25=\"\",\"\",IF(CRForm!$W25<>0,CRForm!$W25,\"\"))","v":""},null,null,"",null,null,"",null,"",""]
[{"$f":"IF(CRForm!$W26<>0,\"CR\",\"\")","v":""},"",null,"",{"$f":"TEXT(IF(A11=\"CR\",CRForm!$B26,\"\"),\"000000\")","v":""},{"$f":"TEXT(IF($A11=\"CR\",CRForm!$E26,\"\"),\"00000\")","v":""},"",{"$f":"IF(CRForm!$G26=\"\",\"\",IF(CRForm!$W26<>0,CRForm!$G26,\"\"))","v":""},{"$f":"IF(CRForm!$J26=\"\",\"\",IF(CRForm!$W26<>0,CRForm!$J26,\"\"))","v":""},null,"","",null,{"$f":"IF(A11=\"CR\",CRForm!$W$2,\"\")","v":""},{"$f":"UPPER(IF(CRForm!$L26=\"\",\"\",IF(CRForm!$W26<>0,CRForm!$L26,\"\")))","v":""},{"$f":"IF(A11=\"\",\"\",CRForm!$D$9)","v":""},null,null,{"$f":"IF(A11=\"\",\"\",1)","v":""},{"$f":"IF(CRForm!$W26=\"\",\"\",IF(CRForm!$W26<>0,CRForm!$W26,\"\"))","v":""},null,null,"",null,null,{"$f":"IF(A11=\"\",\"\",\"C1\")","v":""},null,"",""]
[{"$f":"IF(CRForm!$W27<>0,\"CR\",\"\")","v":""},"",null,"",{"$f":"TEXT(IF(A12=\"CR\",CRForm!$B27,\"\"),\"000000\")","v":""},{"$f":"TEXT(IF($A12=\"CR\",CRForm!$E27,\"\"),\"00000\")","v":""},"",{"$f":"IF(CRForm!$G27=\"\",\"\",IF(CRForm!$W27<>0,CRForm!$G27,\"\"))","v":""},{"$f":"IF(CRForm!$J27=\"\",\"\",IF(CRForm!$W27<>0,CRForm!$J27,\"\"))","v":""},null,"","",null,{"$f":"IF(A12=\"CR\",CRForm!$W$2,\"\")","v":""},{"$f":"UPPER(IF(CRForm!$L27=\"\",\"\",IF(CRForm!$W27<>0,CRForm!$L27,\"\")))","v":""},{"$f":"IF(A12=\"\",\"\",CRForm!$D$9)","v":""},null,null,"",{"$f":"IF(CRForm!$W27=\"\",\"\",IF(CRForm!$W27<>0,CRForm!$W27,\"\"))","v":""},null,null,"",null,null,"",null,"",""]
[{"$f":"IF(CRForm!$AB$3=0,\"\",IF(CRForm!$W29<>0,\"CR\",\"\"))","v":""},"",null,"",{"$f":"TEXT(IF(A13=\"CR\",CRForm!$B29,\"\"),\"000000\")","v":""},{"$f":"TEXT(IF($A13=\"CR\",CRForm!$E29,\"\"),\"00000\")","v":""},"",{"$f":"IF($A13=\"\",\"\",IF(CRForm!$G29=\"\",\"\",IF(CRForm!$W29<>0,CRForm!$G29,\"\")))","v":""},{"$f":"IF($A13=\"\",\"\",IF(CRForm!$J29=\"\",\"\",IF(CRForm!$W29<>0,CRForm!$J29,\"\")))","v":""},null,"","",null,{"$f":"IF(A13=\"CR\",CRForm!$W$2,\"\")","v":""},{"$f":"UPPER(IF(A13=\"\",\"\",IF(CRForm!$L29=\"\",\"\",IF(CRForm!$W29<>0,CRForm!$L29,\"\"))))","v":""},{"$f":"IF(A13=\"\",\"\",CRForm!$D$9)","v":""},null,null,"",{"$f":"IF(A13=\"\",\"\",IF(CRForm!$W29=\"\",\"\",IF(CRForm!$W29<>0,CRForm!$W29,\"\")))","v":""},null,null,"",null,null,"",null,"",""]
[{"$f":"IF(CRForm!$AB$3=0,\"\",IF(CRForm!$W30<>0,\"CR\",\"\"))","v":""},"",null,"",{"$f":"TEXT(IF(A14=\"CR\",CRForm!$B30,\"\"),\"000000\")","v":""},{"$f":"TEXT(IF($A14=\"CR\",CRForm!$E30,\"\"),\"00000\")","v":""},"",{"$f":"IF($A14=\"\",\"\",IF(CRForm!$G30=\"\",\"\",IF(CRForm!$W30<>0,CRForm!$G30,\"\")))","v":""},{"$f":"IF($A14=\"\",\"\",IF(CRForm!$J30=\"\",\"\",IF(CRForm!$W30<>0,CRForm!$J30,\"\")))","v":""},null,"","",null,{"$f":"IF(A14=\"CR\",CRForm!$W$2,\"\")","v":""},{"$f":"UPPER(IF(A14=\"\",\"\",IF(CRForm!$L30=\"\",\"\",IF(CRForm!$W30<>0,CRForm!$L30,\"\"))))","v":""},{"$f":"IF(A14=\"\",\"\",CRForm!$D$9)","v":""},null,null,"",{"$f":"IF(A14=\"\",\"\",IF(CRForm!$W30=\"\",\"\",IF(CRForm!$W30<>0,CRForm!$W30,\"\")))","v":""},null,null,"",null,null,"",null,"",""]
[{"$f":"IF(CRForm!$AB$3=0,\"\",IF(CRForm!$W31<>0,\"CR\",\"\"))","v":""},"",null,"",{"$f":"TEXT(IF(A15=\"CR\",CRForm!$B31,\"\"),\"000000\")","v":""},{"$f":"TEXT(IF($A15=\"CR\",CRForm!$E31,\"\"),\"00000\")","v":""},"",{"$f":"IF($A15=\"\",\"\",IF(CRForm!$G31=\"\",\"\",IF(CRForm!$W31<>0,CRForm!$G31,\"\")))","v":""},{"$f":"IF($A15=\"\",\"\",IF(CRForm!$J31=\"\",\"\",IF(CRForm!$W31<>0,CRForm!$J31,\"\")))","v":""},null,"","",null,{"$f":"IF(A15=\"CR\",CRForm!$W$2,\"\")","v":""},{"$f":"UPPER(IF(A15=\"\",\"\",IF(CRForm!$L31=\"\",\"\",IF(CRForm!$W31<>0,CRForm!$L31,\"\"))))","v":""},{"$f":"IF(A15=\"\",\"\",CRForm!$D$9)","v":""},null,null,"",{"$f":"IF(A15=\"\",\"\",IF(CRForm!$W31=\"\",\"\",IF(CRForm!$W31<>0,CRForm!$W31,\"\")))","v":""},null,null,"",null,null,"",null,"",""]
[{"$f":"IF(CRForm!$AB$3=0,\"\",IF(CRForm!$W32<>0,\"CR\",\"\"))","v":""},"",null,"",{"$f":"TEXT(IF(A16=\"CR\",CRForm!$B32,\"\"),\"000000\")","v":""},{"$f":"TEXT(IF($A16=\"CR\",CRForm!$E32,\"\"),\"00000\")","v":""},"",{"$f":"IF($A16=\"\",\"\",IF(CRForm!$G32=\"\",\"\",IF(CRForm!$W32<>0,CRForm!$G32,\"\")))","v":""},{"$f":"IF($A16=\"\",\"\",IF(CRForm!$J32=\"\",\"\",IF(CRForm!$W32<>0,CRForm!$J32,\"\")))","v":""},null,"","",null,{"$f":"IF(A16=\"CR\",CRForm!$W$2,\"\")","v":""},{"$f":"UPPER(IF(A16=\"\",\"\",IF(CRForm!$L32=\"\",\"\",IF(CRForm!$W32<>0,CRForm!$L32,\"\"))))","v":""},{"$f":"IF(A16=\"\",\"\",CRForm!$D$9)","v":""},null,null,"",{"$f":"IF(A16=\"\",\"\",IF(CRForm!$W32=\"\",\"\",IF(CRForm!$W32<>0,CRForm!$W32,\"\")))","v":""},null,null,"",null,null,"",null,"",""]
[{"$f":"IF(CRForm!$AB$3=0,\"\",IF(CRForm!$W33<>0,\"CR\",\"\"))","v":""},"",null,"",{"$f":"TEXT(IF(A17=\"CR\",CRForm!$B33,\"\"),\"000000\")","v":""},{"$f":"TEXT(IF($A17=\"CR\",CRForm!$E33,\"\"),\"00000\")","v":""},"",{"$f":"IF($A17=\"\",\"\",IF(CRForm!$G33=\"\",\"\",IF(CRForm!$W33<>0,CRForm!$G33,\"\")))","v":""},{"$f":"IF($A17=\"\",\"\",IF(CRForm!$J33=\"\",\"\",IF(CRForm!$W33<>0,CRForm!$J33,\"\")))","v":""},null,"","",null,{"$f":"IF(A17=\"CR\",CRForm!$W$2,\"\")","v":""},{"$f":"UPPER(IF(A17=\"\",\"\",IF(CRForm!$L33=\"\",\"\",IF(CRForm!$W33<>0,CRForm!$L33,\"\"))))","v":""},{"$f":"IF(A17=\"\",\"\",CRForm!$D$9)","v":""},null,null,"",{"$f":"IF(A17=\"\",\"\",IF(CRForm!$W33=\"\",\"\",IF(CRForm!$W33<>0,CRForm!$W33,\"\")))","v":""},null,null,"",null,null,"",null,"",""]
[{"$f":"IF(CRForm!$AB$3=0,\"\",IF(CRForm!$W34<>0,\"CR\",\"\"))","v":""},"",null,"",{"$f":"TEXT(IF(A18=\"CR\",CRForm!$B34,\"\"),\"000000\")","v":""},{"$f":"TEXT(IF($A18=\"CR\",CRForm!$E34,\"\"),\"00000\")","v":""},"",{"$f":"IF($A18=\"\",\"\",IF(CRForm!$G34=\"\",\"\",IF(CRForm!$W34<>0,CRForm!$G34,\"\")))","v":""},{"$f":"IF($A18=\"\",\"\",IF(CRForm!$J34=\"\",\"\",IF(CRForm!$W34<>0,CRForm!$J34,\"\")))","v":""},null,"","",null,{"$f":"IF(A18=\"CR\",CRForm!$W$2,\"\")","v":""},{"$f":"UPPER(IF(A18=\"\",\"\",IF(CRForm!$L34=\"\",\"\",IF(CRForm!$W34<>0,CRForm!$L34,\"\"))))","v":""},{"$f":"IF(A18=\"\",\"\",CRForm!$D$9)","v":""},null,null,"",{"$f":"IF(A18=\"\",\"\",IF(CRForm!$W34=\"\",\"\",IF(CRForm!$W34<>0,CRForm!$W34,\"\")))","v":""},null,null,"",null,null,"",null,"",""]
[{"$f":"IF(CRForm!$AB$3=0,\"\",IF(CRForm!$W35<>0,\"CR\",\"\"))","v":""},"",null,"",{"$f":"TEXT(IF(A19=\"CR\",CRForm!$B35,\"\"),\"000000\")","v":""},{"$f":"TEXT(IF($A19=\"CR\",CRForm!$E35,\"\"),\"00000\")","v":""},"",{"$f":"IF($A19=\"\",\"\",IF(CRForm!$G35=\"\",\"\",IF(CRForm!$W35<>0,CRForm!$G35,\"\")))","v":""},{"$f":"IF($A19=\"\",\"\",IF(CRForm!$J35=\"\",\"\",IF(CRForm!$W35<>0,CRForm!$J35,\"\")))","v":""},null,"","",null,{"$f":"IF(A19=\"CR\",CRForm!$W$2,\"\")","v":""},{"$f":"UPPER(IF(A19=\"\",\"\",IF(CRForm!$L35=\"\",\"\",IF(CRForm!$W35<>0,CRForm!$L35,\"\"))))","v":""},{"$f":"IF(A19=\"\",\"\",CRForm!$D$9)","v":""},null,null,"",{"$f":"IF(A19=\"\",\"\",IF(CRForm!$W35=\"\",\"\",IF(CRForm!$W35<>0,CRForm!$W35,\"\")))","v":""},null,null,"",null,null,"",null,"",""]
[{"$f":"IF(CRForm!$AB$3=0,\"\",IF(CRForm!$W36<>0,\"CR\",\"\"))","v":""},"",null,"",{"$f":"TEXT(IF(A20=\"CR\",CRForm!$B36,\"\"),\"000000\")","v":""},{"$f":"TEXT(IF($A20=\"CR\",CRForm!$E36,\"\"),\"00000\")","v":""},"",{"$f":"IF($A20=\"\",\"\",IF(CRForm!$G36=\"\",\"\",IF(CRForm!$W36<>0,CRForm!$G36,\"\")))","v":""},{"$f":"IF($A20=\"\",\"\",IF(CRForm!$J36=\"\",\"\",IF(CRForm!$W36<>0,CRForm!$J36,\"\")))","v":""},null,"","",null,{"$f":"IF(A20=\"CR\",CRForm!$W$2,\"\")","v":""},{"$f":"UPPER(IF(A20=\"\",\"\",IF(CRForm!$L36=\"\",\"\",IF(CRForm!$W36<>0,CRForm!$L36,\"\"))))","v":""},{"$f":"IF(A20=\"\",\"\",CRForm!$D$9)","v":""},null,null,"",{"$f":"IF(A20=\"\",\"\",IF(CRForm!$W36=\"\",\"\",IF(CRForm!$W36<>0,CRForm!$W36,\"\")))","v":""},null,null,"",null,null,"",null,"",""]
[{"$f":"IF(CRForm!$AB$3=0,\"\",IF(CRForm!$W37<>0,\"CR\",\"\"))","v":""},"",null,"",{"$f":"TEXT(IF(A21=\"CR\",CRForm!$B37,\"\"),\"000000\")","v":""},{"$f":"TEXT(IF($A21=\"CR\",CRForm!$E37,\"\"),\"00000\")","v":""},"",{"$f":"IF($A21=\"\",\"\",IF(CRForm!$G37=\"\",\"\",IF(CRForm!$W37<>0,CRForm!$G37,\"\")))","v":""},{"$f":"IF($A21=\"\",\"\",IF(CRForm!$J37=\"\",\"\",IF(CRForm!$W37<>0,CRForm!$J37,\"\")))","v":""},null,"","",null,{"$f":"IF(A21=\"CR\",CRForm!$W$2,\"\")","v":""},{"$f":"UPPER(IF(A21=\"\",\"\",IF(CRForm!$L37=\"\",\"\",IF(CRForm!$W37<>0,CRForm!$L37,\"\"))))","v":""},{"$f":"IF(A21=\"\",\"\",CRForm!$D$9)","v":""},null,null,"",{"$f":"IF(A21=\"\",\"\",IF(CRForm!$W37=\"\",\"\",IF(CRForm!$W37<>0,CRForm!$W37,\"\")))","v":""},null,null,"",null,null,"",null,"",""]
[{"$f":"IF(CRForm!$AB$3=0,\"\",IF(CRForm!$W38<>0,\"CR\",\"\"))","v":""},"",null,"",{"$f":"TEXT(IF(A22=\"CR\",CRForm!$B38,\"\"),\"000000\")","v":""},{"$f":"TEXT(IF($A22=\"CR\",CRForm!$E38,\"\"),\"00000\")","v":""},"",{"$f":"IF($A22=\"\",\"\",IF(CRForm!$G38=\"\",\"\",IF(CRForm!$W38<>0,CRForm!$G38,\"\")))","v":""},{"$f":"IF($A22=\"\",\"\",IF(CRForm!$J38=\"\",\"\",IF(CRForm!$W38<>0,CRForm!$J38,\"\")))","v":""},null,"","",null,{"$f":"IF(A22=\"CR\",CRForm!$W$2,\"\")","v":""},{"$f":"UPPER(IF(A22=\"\",\"\",IF(CRForm!$L38=\"\",\"\",IF(CRForm!$W38<>0,CRForm!$L38,\"\"))))","v":""},{"$f":"IF(A22=\"\",\"\",CRForm!$D$9)","v":""},null,null,"",{"$f":"IF(A22=\"\",\"\",IF(CRForm!$W38=\"\",\"\",IF(CRForm!$W38<>0,CRForm!$W38,\"\")))","v":""},null,null,"",null,null,"",null,"",""]
[{"$f":"IF(CRForm!$AB$3=0,\"\",IF(CRForm!$W39<>0,\"CR\",\"\"))","v":""},"",null,"",{"$f":"TEXT(IF(A23=\"CR\",CRForm!$B39,\"\"),\"000000\")","v":""},{"$f":"TEXT(IF($A23=\"CR\",CRForm!$E39,\"\"),\"00000\")","v":""},"",{"$f":"IF($A23=\"\",\"\",IF(CRForm!$G39=\"\",\"\",IF(CRForm!$W39<>0,CRForm!$G39,\"\")))","v":""},{"$f":"IF($A23=\"\",\"\",IF(CRForm!$J39=\"\",\"\",IF(CRForm!$W39<>0,CRForm!$J39,\"\")))","v":""},null,"","",null,{"$f":"IF(A23=\"CR\",CRForm!$W$2,\"\")","v":""},{"$f":"UPPER(IF(A23=\"\",\"\",IF(CRForm!$L39=\"\",\"\",IF(CRForm!$W39<>0,CRForm!$L39,\"\"))))","v":""},{"$f":"IF(A23=\"\",\"\",CRForm!$D$9)","v":""},null,null,"",{"$f":"IF(A23=\"\",\"\",IF(CRForm!$W39=\"\",\"\",IF(CRForm!$W39<>0,CRForm!$W39,\"\")))","v":""},null,null,"",null,null,"",null,"",""]
[{"$f":"IF(CRForm!$AB$3=0,\"\",IF(CRForm!$W40<>0,\"CR\",\"\"))","v":""},"",null,"",{"$f":"TEXT(IF(A24=\"CR\",CRForm!$B40,\"\"),\"000000\")","v":""},{"$f":"TEXT(IF($A24=\"CR\",CRForm!$E40,\"\"),\"00000\")","v":""},"",{"$f":"IF($A24=\"\",\"\",IF(CRForm!$G40=\"\",\"\",IF(CRForm!$W40<>0,CRForm!$G40,\"\")))","v":""},{"$f":"IF($A24=\"\",\"\",IF(CRForm!$J40=\"\",\"\",IF(CRForm!$W40<>0,CRForm!$J40,\"\")))","v":""},null,"","",null,{"$f":"IF(A24=\"CR\",CRForm!$W$2,\"\")","v":""},{"$f":"UPPER(IF(A24=\"\",\"\",IF(CRForm!$L40=\"\",\"\",IF(CRForm!$W40<>0,CRForm!$L40,\"\"))))","v":""},{"$f":"IF(A24=\"\",\"\",CRForm!$D$9)","v":""},null,null,"",{"$f":"IF(A24=\"\",\"\",IF(CRForm!$W40=\"\",\"\",IF(CRForm!$W40<>0,CRForm!$W40,\"\")))","v":""},null,null,"",null,null,"",null,"",""]
[{"$f":"IF(CRForm!$AB$3=0,\"\",IF(CRForm!$W41<>0,\"CR\",\"\"))","v":""},"",null,"",{"$f":"TEXT(IF(A25=\"CR\",CRForm!$B41,\"\"),\"000000\")","v":""},{"$f":"TEXT(IF($A25=\"CR\",CRForm!$E41,\"\"),\"00000\")","v":""},"",{"$f":"IF($A25=\"\",\"\",IF(CRForm!$G41=\"\",\"\",IF(CRForm!$W41<>0,CRForm!$G41,\"\")))","v":""},{"$f":"IF($A25=\"\",\"\",IF(CRForm!$J41=\"\",\"\",IF(CRForm!$W41<>0,CRForm!$J41,\"\")))","v":""},null,"","",null,{"$f":"IF(A25=\"CR\",CRForm!$W$2,\"\")","v":""},{"$f":"UPPER(IF(A25=\"\",\"\",IF(CRForm!$L41=\"\",\"\",IF(CRForm!$W41<>0,CRForm!$L41,\"\"))))","v":""},{"$f":"IF(A25=\"\",\"\",CRForm!$D$9)","v":""},null,null,"",{"$f":"IF(A25=\"\",\"\",IF(CRForm!$W41=\"\",\"\",IF(CRForm!$W41<>0,CRForm!$W41,\"\")))","v":""},null,null,"",null,null,"",null,"",""]
[{"$f":"IF(CRForm!$AB$3=0,\"\",IF(CRForm!$W42<>0,\"CR\",\"\"))","v":""},"",null,"",{"$f":"TEXT(IF(A26=\"CR\",CRForm!$B42,\"\"),\"000000\")","v":""},{"$f":"TEXT(IF($A26=\"CR\",CRForm!$E42,\"\"),\"00000\")","v":""},"",{"$f":"IF($A26=\"\",\"\",IF(CRForm!$G42=\"\",\"\",IF(CRForm!$W42<>0,CRForm!$G42,\"\")))","v":""},{"$f":"IF($A26=\"\",\"\",IF(CRForm!$J42=\"\",\"\",IF(CRForm!$W42<>0,CRForm!$J42,\"\")))","v":""},null,"","",null,{"$f":"IF(A26=\"CR\",CRForm!$W$2,\"\")","v":""},{"$f":"UPPER(IF(A26=\"\",\"\",IF(CRForm!$L42=\"\",\"\",IF(CRForm!$W42<>0,CRForm!$L42,\"\"))))","v":""},{"$f":"IF(A26=\"\",\"\",CRForm!$D$9)","v":""},null,null,"",{"$f":"IF(A26=\"\",\"\",IF(CRForm!$W42=\"\",\"\",IF(CRForm!$W42<>0,CRForm!$W42,\"\")))","v":""},null,null,"",null,null,"",null,"",""]
[{"$f":"IF(CRForm!$AB$3=0,\"\",IF(CRForm!$W43<>0,\"CR\",\"\"))","v":""},"",null,"",{"$f":"TEXT(IF(A27=\"CR\",CRForm!$B43,\"\"),\"000000\")","v":""},{"$f":"TEXT(IF($A27=\"CR\",CRForm!$E43,\"\"),\"00000\")","v":""},"",{"$f":"IF($A27=\"\",\"\",IF(CRForm!$G43=\"\",\"\",IF(CRForm!$W43<>0,CRForm!$G43,\"\")))","v":""},{"$f":"IF($A27=\"\",\"\",IF(CRForm!$J43=\"\",\"\",IF(CRForm!$W43<>0,CRForm!$J43,\"\")))","v":""},null,"","",null,{"$f":"IF(A27=\"CR\",CRForm!$W$2,\"\")","v":""},{"$f":"UPPER(IF(A27=\"\",\"\",IF(CRForm!$L43=\"\",\"\",IF(CRForm!$W43<>0,CRForm!$L43,\"\"))))","v":""},{"$f":"IF(A27=\"\",\"\",CRForm!$D$9)","v":""},null,null,"",{"$f":"IF(A27=\"\",\"\",IF(CRForm!$W43=\"\",\"\",IF(CRForm!$W43<>0,CRForm!$W43,\"\")))","v":""},null,null,"",null,null,"",null,"",""]
[{"$f":"IF(CRForm!$AB$3=0,\"\",IF(CRForm!$W44<>0,\"CR\",\"\"))","v":""},"",null,"",{"$f":"TEXT(IF(A28=\"CR\",CRForm!$B44,\"\"),\"000000\")","v":""},{"$f":"TEXT(IF($A28=\"CR\",CRForm!$E44,\"\"),\"00000\")","v":""},"",{"$f":"IF($A28=\"\",\"\",IF(CRForm!$G44=\"\",\"\",IF(CRForm!$W44<>0,CRForm!$G44,\"\")))","v":""},{"$f":"IF($A28=\"\",\"\",IF(CRForm!$J44=\"\",\"\",IF(CRForm!$W44<>0,CRForm!$J44,\"\")))","v":""},null,"","",null,{"$f":"IF(A28=\"CR\",CRForm!$W$2,\"\")","v":""},{"$f":"UPPER(IF(A28=\"\",\"\",IF(CRForm!$L44=\"\",\"\",IF(CRForm!$W44<>0,CRForm!$L44,\"\"))))","v":""},{"$f":"IF(A28=\"\",\"\",CRForm!$D$9)","v":""},null,null,"",{"$f":"IF(A28=\"\",\"\",IF(CRForm!$W44=\"\",\"\",IF(CRForm!$W44<>0,CRForm!$W44,\"\")))","v":""},null,null,"",null,null,"",null,"",""]
[{"$f":"IF(CRForm!$AB$3=0,\"\",IF(CRForm!$W45<>0,\"CR\",\"\"))","v":""},"",null,"",{"$f":"TEXT(IF(A29=\"CR\",CRForm!$B45,\"\"),\"000000\")","v":""},{"$f":"TEXT(IF($A29=\"CR\",CRForm!$E45,\"\"),\"00000\")","v":""},"",{"$f":"IF($A29=\"\",\"\",IF(CRForm!$G45=\"\",\"\",IF(CRForm!$W45<>0,CRForm!$G45,\"\")))","v":""},{"$f":"IF($A29=\"\",\"\",IF(CRForm!$J45=\"\",\"\",IF(CRForm!$W45<>0,CRForm!$J45,\"\")))","v":""},null,"","",null,{"$f":"IF(A29=\"CR\",CRForm!$W$2,\"\")","v":""},{"$f":"UPPER(IF(A29=\"\",\"\",IF(CRForm!$L45=\"\",\"\",IF(CRForm!$W45<>0,CRForm!$L45,\"\"))))","v":""},{"$f":"IF(A29=\"\",\"\",CRForm!$D$9)","v":""},null,null,"",{"$f":"IF(A29=\"\",\"\",IF(CRForm!$W45=\"\",\"\",IF(CRForm!$W45<>0,CRForm!$W45,\"\")))","v":""},null,null,"",null,null,"",null,"",""]
[{"$f":"IF(CRForm!$AB$3=0,\"\",IF(CRForm!$W46<>0,\"CR\",\"\"))","v":""},"",null,"",{"$f":"TEXT(IF(A30=\"CR\",CRForm!$B46,\"\"),\"000000\")","v":""},{"$f":"TEXT(IF($A30=\"CR\",CRForm!$E46,\"\"),\"00000\")","v":""},"",{"$f":"IF($A30=\"\",\"\",IF(CRForm!$G46=\"\",\"\",IF(CRForm!$W46<>0,CRForm!$G46,\"\")))","v":""},{"$f":"IF($A30=\"\",\"\",IF(CRForm!$J46=\"\",\"\",IF(CRForm!$W46<>0,CRForm!$J46,\"\")))","v":""},null,"","",null,{"$f":"IF(A30=\"CR\",CRForm!$W$2,\"\")","v":""},{"$f":"UPPER(IF(A30=\"\",\"\",IF(CRForm!$L46=\"\",\"\",IF(CRForm!$W46<>0,CRForm!$L46,\"\"))))","v":""},{"$f":"IF(A30=\"\",\"\",CRForm!$D$9)","v":""},null,null,"",{"$f":"IF(A30=\"\",\"\",IF(CRForm!$W46=\"\",\"\",IF(CRForm!$W46<>0,CRForm!$W46,\"\")))","v":""},null,null,"",null,null,"",null,"",""]
[{"$f":"IF(CRForm!$AB$3=0,\"\",IF(CRForm!$W47<>0,\"CR\",\"\"))","v":""},"",null,"",{"$f":"TEXT(IF(A31=\"CR\",CRForm!$B47,\"\"),\"000000\")","v":""},{"$f":"TEXT(IF($A31=\"CR\",CRForm!$E47,\"\"),\"00000\")","v":""},"",{"$f":"IF($A31=\"\",\"\",IF(CRForm!$G47=\"\",\"\",IF(CRForm!$W47<>0,CRForm!$G47,\"\")))","v":""},{"$f":"IF($A31=\"\",\"\",IF(CRForm!$J47=\"\",\"\",IF(CRForm!$W47<>0,CRForm!$J47,\"\")))","v":""},null,"","",null,{"$f":"IF(A31=\"CR\",CRForm!$W$2,\"\")","v":""},{"$f":"UPPER(IF(A31=\"\",\"\",IF(CRForm!$L47=\"\",\"\",IF(CRForm!$W47<>0,CRForm!$L47,\"\"))))","v":""},{"$f":"IF(A31=\"\",\"\",CRForm!$D$9)","v":""},null,null,{"$f":"IF(A31=\"\",\"\",1)","v":""},{"$f":"IF(A31=\"\",\"\",IF(CRForm!$W47=\"\",\"\",IF(CRForm!$W47<>0,CRForm!$W47,\"\")))","v":""},null,null,"",null,null,{"$f":"IF(A31=\"\",\"\",\"C1\")","v":""},null,"",""]
[{"$f":"IF(CRForm!$AB$5=0,\"\",IF(CRForm!$W49<>0,\"CR\",\"\"))","v":""},"",null,"",{"$f":"TEXT(IF(A32=\"CR\",CRForm!$B49,\"\"),\"000000\")","v":""},{"$f":"TEXT(IF($A32=\"CR\",CRForm!$E49,\"\"),\"00000\")","v":""},"",{"$f":"IF($A32=\"\",\"\",IF(CRForm!$G49=\"\",\"\",IF(CRForm!$W49<>0,CRForm!$G49,\"\")))","v":""},{"$f":"IF($A32=\"\",\"\",IF(CRForm!$J49=\"\",\"\",IF(CRForm!$W49<>0,CRForm!$J49,\"\")))","v":""},null,"","",null,{"$f":"IF(A32=\"CR\",CRForm!$W$2,\"\")","v":""},{"$f":"UPPER(IF(A32=\"\",\"\",IF(CRForm!$L49=\"\",\"\",IF(CRForm!$W49<>0,CRForm!$L49,\"\"))))","v":""},{"$f":"IF(A32=\"\",\"\",CRForm!$D$9)","v":""},null,null,"",{"$f":"IF(A32=\"\",\"\",IF(CRForm!$W49=\"\",\"\",IF(CRForm!$W49<>0,CRForm!$W49,\"\")))","v":""},null,null,"",null,null,"",null,{"$f":"IF($A32=\"CR\",\"NB\",\"\")","v":""},{"$f":"IF($A32=\"CR\",\"N\",\"\")","v":""}]
[{"$f":"IF(CRForm!$AB$5=0,\"\",IF(CRForm!$W50<>0,\"CR\",\"\"))","v":""},"",null,"",{"$f":"TEXT(IF(A33=\"CR\",CRForm!$B50,\"\"),\"000000\")","v":""},{"$f":"TEXT(IF($A33=\"CR\",CRForm!$E50,\"\"),\"00000\")","v":""},"",{"$f":"IF($A33=\"\",\"\",IF(CRForm!$G50=\"\",\"\",IF(CRForm!$W50<>0,CRForm!$G50,\"\")))","v":""},{"$f":"IF($A33=\"\",\"\",IF(CRForm!$J50=\"\",\"\",IF(CRForm!$W50<>0,CRForm!$J50,\"\")))","v":""},null,"","",null,{"$f":"IF(A33=\"CR\",CRForm!$W$2,\"\")","v":""},{"$f":"UPPER(IF(A33=\"\",\"\",IF(CRForm!$L50=\"\",\"\",IF(CRForm!$W50<>0,CRForm!$L50,\"\"))))","v":""},{"$f":"IF(A33=\"\",\"\",CRForm!$D$9)","v":""},null,null,"",{"$f":"IF(A33=\"\",\"\",IF(CRForm!$W50=\"\",\"\",IF(CRForm!$W50<>0,CRForm!$W50,\"\")))","v":""},null,null,"",null,null,"",null,"",""]
[{"$f":"IF(CRForm!$AB$5=0,\"\",IF(CRForm!$W51<>0,\"CR\",\"\"))","v":""},"",null,"",{"$f":"TEXT(IF(A34=\"CR\",CRForm!$B51,\"\"),\"000000\")","v":""},{"$f":"TEXT(IF($A34=\"CR\",CRForm!$E51,\"\"),\"00000\")","v":""},"",{"$f":"IF($A34=\"\",\"\",IF(CRForm!$G51=\"\",\"\",IF(CRForm!$W51<>0,CRForm!$G51,\"\")))","v":""},{"$f":"IF($A34=\"\",\"\",IF(CRForm!$J51=\"\",\"\",IF(CRForm!$W51<>0,CRForm!$J51,\"\")))","v":""},null,"","",null,{"$f":"IF(A34=\"CR\",CRForm!$W$2,\"\")","v":""},{"$f":"UPPER(IF(A34=\"\",\"\",IF(CRForm!$L51=\"\",\"\",IF(CRForm!$W51<>0,CRForm!$L51,\"\"))))","v":""},{"$f":"IF(A34=\"\",\"\",CRForm!$D$9)","v":""},null,null,"",{"$f":"IF(A34=\"\",\"\",IF(CRForm!$W51=\"\",\"\",IF(CRForm!$W51<>0,CRForm!$W51,\"\")))","v":""},null,null,"",null,null,"",null,"",""]
[{"$f":"IF(CRForm!$AB$5=0,\"\",IF(CRForm!$W52<>0,\"CR\",\"\"))","v":""},"",null,"",{"$f":"TEXT(IF(A35=\"CR\",CRForm!$B52,\"\"),\"000000\")","v":""},{"$f":"TEXT(IF($A35=\"CR\",CRForm!$E52,\"\"),\"00000\")","v":""},"",{"$f":"IF($A35=\"\",\"\",IF(CRForm!$G52=\"\",\"\",IF(CRForm!$W52<>0,CRForm!$G52,\"\")))","v":""},{"$f":"IF($A35=\"\",\"\",IF(CRForm!$J52=\"\",\"\",IF(CRForm!$W52<>0,CRForm!$J52,\"\")))","v":""},null,"","",null,{"$f":"IF(A35=\"CR\",CRForm!$W$2,\"\")","v":""},{"$f":"UPPER(IF(A35=\"\",\"\",IF(CRForm!$L52=\"\",\"\",IF(CRForm!$W52<>0,CRForm!$L52,\"\"))))","v":""},{"$f":"IF(A35=\"\",\"\",CRForm!$D$9)","v":""},null,null,"",{"$f":"IF(A35=\"\",\"\",IF(CRForm!$W52=\"\",\"\",IF(CRForm!$W52<>0,CRForm!$W52,\"\")))","v":""},null,null,"",null,null,"",null,"",""]
[{"$f":"IF(CRForm!$AB$5=0,\"\",IF(CRForm!$W53<>0,\"CR\",\"\"))","v":""},"",null,"",{"$f":"TEXT(IF(A36=\"CR\",CRForm!$B53,\"\"),\"000000\")","v":""},{"$f":"TEXT(IF($A36=\"CR\",CRForm!$E53,\"\"),\"00000\")","v":""},"",{"$f":"IF($A36=\"\",\"\",IF(CRForm!$G53=\"\",\"\",IF(CRForm!$W53<>0,CRForm!$G53,\"\")))","v":""},{"$f":"IF($A36=\"\",\"\",IF(CRForm!$J53=\"\",\"\",IF(CRForm!$W53<>0,CRForm!$J53,\"\")))","v":""},null,"","",null,{"$f":"IF(A36=\"CR\",CRForm!$W$2,\"\")","v":""},{"$f":"UPPER(IF(A36=\"\",\"\",IF(CRForm!$L53=\"\",\"\",IF(CRForm!$W53<>0,CRForm!$L53,\"\"))))","v":""},{"$f":"IF(A36=\"\",\"\",CRForm!$D$9)","v":""},null,null,"",{"$f":"IF(A36=\"\",\"\",IF(CRForm!$W53=\"\",\"\",IF(CRForm!$W53<>0,CRForm!$W53,\"\")))","v":""},null,null,"",null,null,"",null,"",""]
[{"$f":"IF(CRForm!$AB$5=0,\"\",IF(CRForm!$W54<>0,\"CR\",\"\"))","v":""},"",null,"",{"$f":"TEXT(IF(A37=\"CR\",CRForm!$B54,\"\"),\"000000\")","v":""},{"$f":"TEXT(IF($A37=\"CR\",CRForm!$E54,\"\"),\"00000\")","v":""},"",{"$f":"IF($A37=\"\",\"\",IF(CRForm!$G54=\"\",\"\",IF(CRForm!$W54<>0,CRForm!$G54,\"\")))","v":""},{"$f":"IF($A37=\"\",\"\",IF(CRForm!$J54=\"\",\"\",IF(CRForm!$W54<>0,CRForm!$J54,\"\")))","v":""},null,"","",null,{"$f":"IF(A37=\"CR\",CRForm!$W$2,\"\")","v":""},{"$f":"UPPER(IF(A37=\"\",\"\",IF(CRForm!$L54=\"\",\"\",IF(CRForm!$W54<>0,CRForm!$L54,\"\"))))","v":""},{"$f":"IF(A37=\"\",\"\",CRForm!$D$9)","v":""},null,null,"",{"$f":"IF(A37=\"\",\"\",IF(CRForm!$W54=\"\",\"\",IF(CRForm!$W54<>0,CRForm!$W54,\"\")))","v":""},null,null,"",null,null,"",null,"",""]
[{"$f":"IF(CRForm!$AB$5=0,\"\",IF(CRForm!$W55<>0,\"CR\",\"\"))","v":""},"",null,"",{"$f":"TEXT(IF(A38=\"CR\",CRForm!$B55,\"\"),\"000000\")","v":""},{"$f":"TEXT(IF($A38=\"CR\",CRForm!$E55,\"\"),\"00000\")","v":""},"",{"$f":"IF($A38=\"\",\"\",IF(CRForm!$G55=\"\",\"\",IF(CRForm!$W55<>0,CRForm!$G55,\"\")))","v":""},{"$f":"IF($A38=\"\",\"\",IF(CRForm!$J55=\"\",\"\",IF(CRForm!$W55<>0,CRForm!$J55,\"\")))","v":""},null,"","",null,{"$f":"IF(A38=\"CR\",CRForm!$W$2,\"\")","v":""},{"$f":"UPPER(IF(A38=\"\",\"\",IF(CRForm!$L55=\"\",\"\",IF(CRForm!$W55<>0,CRForm!$L55,\"\"))))","v":""},{"$f":"IF(A38=\"\",\"\",CRForm!$D$9)","v":""},null,null,"",{"$f":"IF(A38=\"\",\"\",IF(CRForm!$W55=\"\",\"\",IF(CRForm!$W55<>0,CRForm!$W55,\"\")))","v":""},null,null,"",null,null,"",null,"",""]
[{"$f":"IF(CRForm!$AB$5=0,\"\",IF(CRForm!$W56<>0,\"CR\",\"\"))","v":""},"",null,"",{"$f":"TEXT(IF(A39=\"CR\",CRForm!$B56,\"\"),\"000000\")","v":""},{"$f":"TEXT(IF($A39=\"CR\",CRForm!$E56,\"\"),\"00000\")","v":""},"",{"$f":"IF($A39=\"\",\"\",IF(CRForm!$G56=\"\",\"\",IF(CRForm!$W56<>0,CRForm!$G56,\"\")))","v":""},{"$f":"IF($A39=\"\",\"\",IF(CRForm!$J56=\"\",\"\",IF(CRForm!$W56<>0,CRForm!$J56,\"\")))","v":""},null,"","",null,{"$f":"IF(A39=\"CR\",CRForm!$W$2,\"\")","v":""},{"$f":"UPPER(IF(A39=\"\",\"\",IF(CRForm!$L56=\"\",\"\",IF(CRForm!$W56<>0,CRForm!$L56,\"\"))))","v":""},{"$f":"IF(A39=\"\",\"\",CRForm!$D$9)","v":""},null,null,"",{"$f":"IF(A39=\"\",\"\",IF(CRForm!$W56=\"\",\"\",IF(CRForm!$W56<>0,CRForm!$W56,\"\")))","v":""},null,null,"",null,null,"",null,"",""]
[{"$f":"IF(CRForm!$AB$5=0,\"\",IF(CRForm!$W57<>0,\"CR\",\"\"))","v":""},"",null,"",{"$f":"TEXT(IF(A40=\"CR\",CRForm!$B57,\"\"),\"000000\")","v":""},{"$f":"TEXT(IF($A40=\"CR\",CRForm!$E57,\"\"),\"00000\")","v":""},"",{"$f":"IF($A40=\"\",\"\",IF(CRForm!$G57=\"\",\"\",IF(CRForm!$W57<>0,CRForm!$G57,\"\")))","v":""},{"$f":"IF($A40=\"\",\"\",IF(CRForm!$J57=\"\",\"\",IF(CRForm!$W57<>0,CRForm!$J57,\"\")))","v":""},null,"","",null,{"$f":"IF(A40=\"CR\",CRForm!$W$2,\"\")","v":""},{"$f":"UPPER(IF(A40=\"\",\"\",IF(CRForm!$L57=\"\",\"\",IF(CRForm!$W57<>0,CRForm!$L57,\"\"))))","v":""},{"$f":"IF(A40=\"\",\"\",CRForm!$D$9)","v":""},null,null,"",{"$f":"IF(A40=\"\",\"\",IF(CRForm!$W57=\"\",\"\",IF(CRForm!$W57<>0,CRForm!$W57,\"\")))","v":""},null,null,"",null,null,"",null,"",""]
[{"$f":"IF(CRForm!$AB$5=0,\"\",IF(CRForm!$W58<>0,\"CR\",\"\"))","v":""},"",null,"",{"$f":"TEXT(IF(A41=\"CR\",CRForm!$B58,\"\"),\"000000\")","v":""},{"$f":"TEXT(IF($A41=\"CR\",CRForm!$E58,\"\"),\"00000\")","v":""},"",{"$f":"IF($A41=\"\",\"\",IF(CRForm!$G58=\"\",\"\",IF(CRForm!$W58<>0,CRForm!$G58,\"\")))","v":""},{"$f":"IF($A41=\"\",\"\",IF(CRForm!$J58=\"\",\"\",IF(CRForm!$W58<>0,CRForm!$J58,\"\")))","v":""},null,"","",null,{"$f":"IF(A41=\"CR\",CRForm!$W$2,\"\")","v":""},{"$f":"UPPER(IF(A41=\"\",\"\",IF(CRForm!$L58=\"\",\"\",IF(CRForm!$W58<>0,CRForm!$L58,\"\"))))","v":""},{"$f":"IF(A41=\"\",\"\",CRForm!$D$9)","v":""},null,null,"",{"$f":"IF(A41=\"\",\"\",IF(CRForm!$W58=\"\",\"\",IF(CRForm!$W58<>0,CRForm!$W58,\"\")))","v":""},null,null,"",null,null,"",null,"",""]
[{"$f":"IF(CRForm!$AB$5=0,\"\",IF(CRForm!$W59<>0,\"CR\",\"\"))","v":""},"",null,"",{"$f":"TEXT(IF(A42=\"CR\",CRForm!$B59,\"\"),\"000000\")","v":""},{"$f":"TEXT(IF($A42=\"CR\",CRForm!$E59,\"\"),\"00000\")","v":""},"",{"$f":"IF($A42=\"\",\"\",IF(CRForm!$G59=\"\",\"\",IF(CRForm!$W59<>0,CRForm!$G59,\"\")))","v":""},{"$f":"IF($A42=\"\",\"\",IF(CRForm!$J59=\"\",\"\",IF(CRForm!$W59<>0,CRForm!$J59,\"\")))","v":""},null,"","",null,{"$f":"IF(A42=\"CR\",CRForm!$W$2,\"\")","v":""},{"$f":"UPPER(IF(A42=\"\",\"\",IF(CRForm!$L59=\"\",\"\",IF(CRForm!$W59<>0,CRForm!$L59,\"\"))))","v":""},{"$f":"IF(A42=\"\",\"\",CRForm!$D$9)","v":""},null,null,"",{"$f":"IF(A42=\"\",\"\",IF(CRForm!$W59=\"\",\"\",IF(CRForm!$W59<>0,CRForm!$W59,\"\")))","v":""},null,null,"",null,null,"",null,"",""]
[{"$f":"IF(CRForm!$AB$5=0,\"\",IF(CRForm!$W60<>0,\"CR\",\"\"))","v":""},"",null,"",{"$f":"TEXT(IF(A43=\"CR\",CRForm!$B60,\"\"),\"000000\")","v":""},{"$f":"TEXT(IF($A43=\"CR\",CRForm!$E60,\"\"),\"00000\")","v":""},"",{"$f":"IF($A43=\"\",\"\",IF(CRForm!$G60=\"\",\"\",IF(CRForm!$W60<>0,CRForm!$G60,\"\")))","v":""},{"$f":"IF($A43=\"\",\"\",IF(CRForm!$J60=\"\",\"\",IF(CRForm!$W60<>0,CRForm!$J60,\"\")))","v":""},null,"","",null,{"$f":"IF(A43=\"CR\",CRForm!$W$2,\"\")","v":""},{"$f":"UPPER(IF(A43=\"\",\"\",IF(CRForm!$L60=\"\",\"\",IF(CRForm!$W60<>0,CRForm!$L60,\"\"))))","v":""},{"$f":"IF(A43=\"\",\"\",CRForm!$D$9)","v":""},null,null,"",{"$f":"IF(A43=\"\",\"\",IF(CRForm!$W60=\"\",\"\",IF(CRForm!$W60<>0,CRForm!$W60,\"\")))","v":""},null,null,"",null,null,"",null,"",""]
[{"$f":"IF(CRForm!$AB$5=0,\"\",IF(CRForm!$W61<>0,\"CR\",\"\"))","v":""},"",null,"",{"$f":"TEXT(IF(A44=\"CR\",CRForm!$B61,\"\"),\"000000\")","v":""},{"$f":"TEXT(IF($A44=\"CR\",CRForm!$E61,\"\"),\"00000\")","v":""},"",{"$f":"IF($A44=\"\",\"\",IF(CRForm!$G61=\"\",\"\",IF(CRForm!$W61<>0,CRForm!$G61,\"\")))","v":""},{"$f":"IF($A44=\"\",\"\",IF(CRForm!$J61=\"\",\"\",IF(CRForm!$W61<>0,CRForm!$J61,\"\")))","v":""},null,"","",null,{"$f":"IF(A44=\"CR\",CRForm!$W$2,\"\")","v":""},{"$f":"UPPER(IF(A44=\"\",\"\",IF(CRForm!$L61=\"\",\"\",IF(CRForm!$W61<>0,CRForm!$L61,\"\"))))","v":""},{"$f":"IF(A44=\"\",\"\",CRForm!$D$9)","v":""},null,null,"",{"$f":"IF(A44=\"\",\"\",IF(CRForm!$W61=\"\",\"\",IF(CRForm!$W61<>0,CRForm!$W61,\"\")))","v":""},null,null,"",null,null,"",null,"",""]
[{"$f":"IF(CRForm!$AB$5=0,\"\",IF(CRForm!$W62<>0,\"CR\",\"\"))","v":""},"",null,"",{"$f":"TEXT(IF(A45=\"CR\",CRForm!$B62,\"\"),\"000000\")","v":""},{"$f":"TEXT(IF($A45=\"CR\",CRForm!$E62,\"\"),\"00000\")","v":""},"",{"$f":"IF($A45=\"\",\"\",IF(CRForm!$G62=\"\",\"\",IF(CRForm!$W62<>0,CRForm!$G62,\"\")))","v":""},{"$f":"IF($A45=\"\",\"\",IF(CRForm!$J62=\"\",\"\",IF(CRForm!$W62<>0,CRForm!$J62,\"\")))","v":""},null,"","",null,{"$f":"IF(A45=\"CR\",CRForm!$W$2,\"\")","v":""},{"$f":"UPPER(IF(A45=\"\",\"\",IF(CRForm!$L62=\"\",\"\",IF(CRForm!$W62<>0,CRForm!$L62,\"\"))))","v":""},{"$f":"IF(A45=\"\",\"\",CRForm!$D$9)","v":""},null,null,"",{"$f":"IF(A45=\"\",\"\",IF(CRForm!$W62=\"\",\"\",IF(CRForm!$W62<>0,CRForm!$W62,\"\")))","v":""},null,null,"",null,null,"",null,"",""]
[{"$f":"IF(CRForm!$AB$5=0,\"\",IF(CRForm!$W63<>0,\"CR\",\"\"))","v":""},"",null,"",{"$f":"TEXT(IF(A46=\"CR\",CRForm!$B63,\"\"),\"000000\")","v":""},{"$f":"TEXT(IF($A46=\"CR\",CRForm!$E63,\"\"),\"00000\")","v":""},"",{"$f":"IF($A46=\"\",\"\",IF(CRForm!$G63=\"\",\"\",IF(CRForm!$W63<>0,CRForm!$G63,\"\")))","v":""},{"$f":"IF($A46=\"\",\"\",IF(CRForm!$J63=\"\",\"\",IF(CRForm!$W63<>0,CRForm!$J63,\"\")))","v":""},null,"","",null,{"$f":"IF(A46=\"CR\",CRForm!$W$2,\"\")","v":""},{"$f":"UPPER(IF(A46=\"\",\"\",IF(CRForm!$L63=\"\",\"\",IF(CRForm!$W63<>0,CRForm!$L63,\"\"))))","v":""},{"$f":"IF(A46=\"\",\"\",CRForm!$D$9)","v":""},null,null,"",{"$f":"IF(A46=\"\",\"\",IF(CRForm!$W63=\"\",\"\",IF(CRForm!$W63<>0,CRForm!$W63,\"\")))","v":""},null,null,"",null,null,"",null,"",""]
[{"$f":"IF(CRForm!$AB$5=0,\"\",IF(CRForm!$W64<>0,\"CR\",\"\"))","v":""},"",null,"",{"$f":"TEXT(IF(A47=\"CR\",CRForm!$B64,\"\"),\"000000\")","v":""},{"$f":"TEXT(IF($A47=\"CR\",CRForm!$E64,\"\"),\"00000\")","v":""},"",{"$f":"IF($A47=\"\",\"\",IF(CRForm!$G64=\"\",\"\",IF(CRForm!$W64<>0,CRForm!$G64,\"\")))","v":""},{"$f":"IF($A47=\"\",\"\",IF(CRForm!$J64=\"\",\"\",IF(CRForm!$W64<>0,CRForm!$J64,\"\")))","v":""},null,"","",null,{"$f":"IF(A47=\"CR\",CRForm!$W$2,\"\")","v":""},{"$f":"UPPER(IF(A47=\"\",\"\",IF(CRForm!$L64=\"\",\"\",IF(CRForm!$W64<>0,CRForm!$L64,\"\"))))","v":""},{"$f":"IF(A47=\"\",\"\",CRForm!$D$9)","v":""},null,null,"",{"$f":"IF(A47=\"\",\"\",IF(CRForm!$W64=\"\",\"\",IF(CRForm!$W64<>0,CRForm!$W64,\"\")))","v":""},null,null,"",null,null,"",null,"",""]
[{"$f":"IF(CRForm!$AB$5=0,\"\",IF(CRForm!$W65<>0,\"CR\",\"\"))","v":""},"",null,"",{"$f":"TEXT(IF(A48=\"CR\",CRForm!$B65,\"\"),\"000000\")","v":""},{"$f":"TEXT(IF($A48=\"CR\",CRForm!$E65,\"\"),\"00000\")","v":""},"",{"$f":"IF($A48=\"\",\"\",IF(CRForm!$G65=\"\",\"\",IF(CRForm!$W65<>0,CRForm!$G65,\"\")))","v":""},{"$f":"IF($A48=\"\",\"\",IF(CRForm!$J65=\"\",\"\",IF(CRForm!$W65<>0,CRForm!$J65,\"\")))","v":""},null,"","",null,{"$f":"IF(A48=\"CR\",CRForm!$W$2,\"\")","v":""},{"$f":"UPPER(IF(A48=\"\",\"\",IF(CRForm!$L65=\"\",\"\",IF(CRForm!$W65<>0,CRForm!$L65,\"\"))))","v":""},{"$f":"IF(A48=\"\",\"\",CRForm!$D$9)","v":""},null,null,"",{"$f":"IF(A48=\"\",\"\",IF(CRForm!$W65=\"\",\"\",IF(CRForm!$W65<>0,CRForm!$W65,\"\")))","v":""},null,null,"",null,null,"",null,"",""]
[{"$f":"IF(CRForm!$AB$5=0,\"\",IF(CRForm!$W66<>0,\"CR\",\"\"))","v":""},"",null,"",{"$f":"TEXT(IF(A49=\"CR\",CRForm!$B66,\"\"),\"000000\")","v":""},{"$f":"TEXT(IF($A49=\"CR\",CRForm!$E66,\"\"),\"00000\")","v":""},"",{"$f":"IF($A49=\"\",\"\",IF(CRForm!$G66=\"\",\"\",IF(CRForm!$W66<>0,CRForm!$G66,\"\")))","v":""},{"$f":"IF($A49=\"\",\"\",IF(CRForm!$J66=\"\",\"\",IF(CRForm!$W66<>0,CRForm!$J66,\"\")))","v":""},null,"","",null,{"$f":"IF(A49=\"CR\",CRForm!$W$2,\"\")","v":""},{"$f":"UPPER(IF(A49=\"\",\"\",IF(CRForm!$L66=\"\",\"\",IF(CRForm!$W66<>0,CRForm!$L66,\"\"))))","v":""},{"$f":"IF(A49=\"\",\"\",CRForm!$D$9)","v":""},null,null,"",{"$f":"IF(A49=\"\",\"\",IF(CRForm!$W66=\"\",\"\",IF(CRForm!$W66<>0,CRForm!$W66,\"\")))","v":""},null,null,"",null,null,"",null,"",""]
[{"$f":"IF(CRForm!$AB$5=0,\"\",IF(CRForm!$W67<>0,\"CR\",\"\"))","v":""},"",null,"",{"$f":"TEXT(IF(A50=\"CR\",CRForm!$B67,\"\"),\"000000\")","v":""},{"$f":"TEXT(IF($A50=\"CR\",CRForm!$E67,\"\"),\"00000\")","v":""},"",{"$f":"IF($A50=\"\",\"\",IF(CRForm!$G67=\"\",\"\",IF(CRForm!$W67<>0,CRForm!$G67,\"\")))","v":""},{"$f":"IF($A50=\"\",\"\",IF(CRForm!$J67=\"\",\"\",IF(CRForm!$W67<>0,CRForm!$J67,\"\")))","v":""},null,"","",null,{"$f":"IF(A50=\"CR\",CRForm!$W$2,\"\")","v":""},{"$f":"UPPER(IF(A50=\"\",\"\",IF(CRForm!$L67=\"\",\"\",IF(CRForm!$W67<>0,CRForm!$L67,\"\"))))","v":""},{"$f":"IF(A50=\"\",\"\",CRForm!$D$9)","v":""},null,null,"",{"$f":"IF(A50=\"\",\"\",IF(CRForm!$W67=\"\",\"\",IF(CRForm!$W67<>0,CRForm!$W67,\"\")))","v":""},null,null,"",null,null,"",null,"",""]

{"sheet":"ARUTFI_Headers","index":2,"n_rows":1,"n_cols":29,"rows_kept":1,"cut":false,"hidden":false,"merged":[]}
["INT-TR-TYPE Transaction Type char(2) “AR” or “CR”","INT-ACCT-ID AR Account ID char(12)","INT-ACCTNAME Account Name char(30)","INT-GL-GR Ledger Code char(2) Set to User GL Code if blank","INT-GL-KEY Org Key * char(10)","INT-GL-OBJ Object Code * char(8)","INT-JL-GR Job Ledger Code char(2)","INT-JL-KEY Job Key * char(10)","INT-JL-OBJ Job Object * char(8)","INT-WO Work Order char(12)","INT-TERM Term * char(8)","INT-DIV Division * char(4)","INT-REF Invoice Number char(8) Only Required for “AR” types","INT-REF2 Receipt Number char(10) Only Required for “CR” types","INT-DESC Description * char(30)","INT-REF-DT Reference Date char(8) Set to CURRENT-DATE if blank;Format: YYYYMMDD","INT-FIN-CD Finance Code * * * char(8)","INT-MISC-CD Miscellaneous Code * char(4)","INT-QTY Quantity char(8) Set to “1” if blank; Up to five decimals precision","INT-UNITPRICE Unit Price * char(12) Up to five decimals precision","INT-PAY-TYPE Payment Type char(2)","INT-PAY-REF Payment Reference char(10)","INT-BANK-ID Bank ID * char(2) Derived (GLUTSPCK) if left blank","INT-BANK-SLIP Bank Slip char(10)","INT-BANK-DT Bank Date char(8) Format: YYYYMMDD","INT-ADDR-CD Address Code char(2)","INT-PEDB-CD PEDB Code char(2) Set to “P” if blank and ID is not blank","INT-TRN-FMT Transaction Format char(2) Set to “NB” if blank","INT-HIT-AR Hit AR * char(1) Set to “N” if not equal to “Y”"]